BEGIN:VCALENDAR
VERSION:2.0
PRODID:-//SFODF - ECPv5.2.1//NONSGML v1.0//EN
CALSCALE:GREGORIAN
METHOD:PUBLISH
X-WR-CALNAME:SFODF
X-ORIGINAL-URL:https://www.sfodf.org
X-WR-CALDESC:évènements pour SFODF
BEGIN:VTIMEZONE
TZID:UTC
BEGIN:STANDARD
TZOFFSETFROM:+0000
TZOFFSETTO:+0000
TZNAME:UTC
DTSTART:20240101T000000
END:STANDARD
END:VTIMEZONE
BEGIN:VEVENT
DTSTART;VALUE=DATE:20241003
DTEND;VALUE=DATE:20241006
DTSTAMP:20260419T214903
CREATED:20240311T150005Z
LAST-MODIFIED:20250328T025412Z
UID:4994-1727913600-1728172799@www.sfodf.org
SUMMARY:10ÈME RENCONTRE AIOF
DESCRIPTION:« L’avenir et le devenir de l’orthodontie » \n\n\n					\n				\n					\n						\n\n					\n				\n					\n						\n\n					\n				\n					\n						Informations et tarifs sur le site
URL:https://www.sfodf.org/evenement-sfodf/10rencontre-aiof/
LOCATION:La Canée\, île de Crète\, La Canée\, île de Crète\, La Canée\, Grèce
CATEGORIES:Sociétés scientifiques partenaires
ATTACH;FMTTYPE=image/jpeg:https://www.sfodf.org/wp-content/uploads/2024/03/20240131_133322.jpg
END:VEVENT
END:VCALENDAR