BEGIN:VCALENDAR
VERSION:2.0
PRODID:-//SFODF - ECPv5.2.1//NONSGML v1.0//EN
CALSCALE:GREGORIAN
METHOD:PUBLISH
X-WR-CALNAME:SFODF
X-ORIGINAL-URL:https://www.sfodf.org
X-WR-CALDESC:évènements pour SFODF
BEGIN:VTIMEZONE
TZID:UTC
BEGIN:STANDARD
TZOFFSETFROM:+0000
TZOFFSETTO:+0000
TZNAME:UTC
DTSTART:20190101T000000
END:STANDARD
END:VTIMEZONE
BEGIN:VEVENT
DTSTART;VALUE=DATE:20191107
DTEND;VALUE=DATE:20191111
DTSTAMP:20260423T103827
CREATED:20190612T133809Z
LAST-MODIFIED:20190612T133809Z
UID:3603-1573084800-1573430399@www.sfodf.org
SUMMARY:22e Journées de l'Orthodontie — FFO
DESCRIPTION:Alain Bery \nAdministrateur de la FFO \n\n\n					\n				\n					\n						L’an passé\, ce sont 2438 personnes (dont 11% d’étrangers) qui étaient inscrites aux 21èmes Journées de l’Orthodontie.\nRappelons que les JO sont l’émanation de la Fédération Française d’Orthodontie qui re- groupe 12 sociétés scientifiques qui apportent leurs compétences et leur savoir faire à l’élaboration du programme. Cette année\, et pour deux ans\, c’est François Darqué qui assume la Présidence de la commission scientifique sur le thème « l’Orthodontie : une spécialité médicale en constante évolution ». Bravo à son dynamisme et à sa disponibilité.\nLa réussite des JO ne peut se faire que grâce à des confrères et consœurs tous plus dé- voués les uns que les autres qui n’hésitent pas à prendre de leur temps pour que cette réussite soit au rendez-vous. Il est important de souligner que tous sont bénévoles ; ils ne seront jamais suffisamment remerciés.\nCette réussite\, nous la devons également à l’indéfectible participation de nos sponsors\, ils nous font confiance\, sachons leur faire confiance !\nDepuis 2010\, ce sont chaque année plus de 2100 congressistes qui se retrouvent au Palais de Paris\, montrant par la même leur attachement à la formation continue. Leur jeunesse est un gage quant à l’avenir.\nFaisons un souhait : dépasser les 2500 inscrits…\nNous vous attendons pour les 22èmes JO\, qui\, nous vous le rappelons changent de date et démarreront par deux cours pré-congrès le jeudi 7 novembre après-midi et se termi- neront le dimanche 10 novembre 2019. \nBien confraternellement mais surtout bien amicalement. \nProgramme préliminaire \n\n					\n				\n					\n						\n\n					\n				\n					\n						\n\n					\n				\n					\n						Informations et tarifs sur le site www.journees-orthodontie.org
URL:https://www.sfodf.org/evenement-sfodf/22e-journees-orthodontie-ffo/
LOCATION:Palais des congrès de Paris\, 2 Place de la Porte Maillot\, Paris\, 75017\, France
CATEGORIES:Sociétés scientifiques partenaires
ATTACH;FMTTYPE=image/jpeg:https://www.sfodf.org/wp-content/uploads/2019/06/DSF8865-e1560346630628.jpg
ORGANIZER;CN="FFO":MAILTO:asso@ffo-info.org
END:VEVENT
END:VCALENDAR