BEGIN:VCALENDAR
VERSION:2.0
PRODID:-//SFODF - ECPv5.2.1//NONSGML v1.0//EN
CALSCALE:GREGORIAN
METHOD:PUBLISH
X-WR-CALNAME:SFODF
X-ORIGINAL-URL:https://www.sfodf.org
X-WR-CALDESC:évènements pour SFODF
BEGIN:VTIMEZONE
TZID:UTC
BEGIN:STANDARD
TZOFFSETFROM:+0000
TZOFFSETTO:+0000
TZNAME:UTC
DTSTART:20230101T000000
END:STANDARD
END:VTIMEZONE
BEGIN:VEVENT
DTSTART;VALUE=DATE:20231110
DTEND;VALUE=DATE:20231113
DTSTAMP:20260421T063129
CREATED:20230926T130216Z
LAST-MODIFIED:20230926T130216Z
UID:4847-1699574400-1699833599@www.sfodf.org
SUMMARY:25e Journées de l'Orthodontie — FFO
DESCRIPTION:Le thème des 25èmes Journées de l’Orthodontie est de nouveau « Tout est son contraire : l’évolution des paradigmes ».\nCette année présentera les sauts technologiques entre orthodontie d’hier et d’aujourd’hui et insistera dans le cadre de la recherche et développement en France et à l’étranger\, sur les pistes qui nous attendent les prochaines années. \nLe paradigme est une façon d’agir en fonction de référentiel. \nLes pratiques orthodontiques sont toujours basées sur des preuves scientifiques\, sur des stratégies validées et éprouvées mais qui peuvent évoluer avec le temps. \nProgramme préliminaire \n\n					\n				\n					\n						\n\n					\n				\n					\n						\n\n					\n				\n					\n						Informations et tarifs sur le site www.journees-orthodontie.org
URL:https://www.sfodf.org/evenement-sfodf/23e-journees-orthodontie-ffo-2-2-2/
LOCATION:Palais des congrès de Paris\, 2 Place de la Porte Maillot\, Paris\, 75017\, France
CATEGORIES:Sociétés scientifiques partenaires
ATTACH;FMTTYPE=image/jpeg:https://www.sfodf.org/wp-content/uploads/2019/06/DSF8865-e1560346630628.jpg
ORGANIZER;CN="FFO":MAILTO:asso@ffo-info.org
END:VEVENT
END:VCALENDAR