BEGIN:VCALENDAR
VERSION:2.0
PRODID:-//SFODF - ECPv5.2.1//NONSGML v1.0//EN
CALSCALE:GREGORIAN
METHOD:PUBLISH
X-WR-CALNAME:SFODF
X-ORIGINAL-URL:https://www.sfodf.org
X-WR-CALDESC:évènements pour SFODF
BEGIN:VTIMEZONE
TZID:UTC
BEGIN:STANDARD
TZOFFSETFROM:+0000
TZOFFSETTO:+0000
TZNAME:UTC
DTSTART:20180101T000000
END:STANDARD
END:VTIMEZONE
BEGIN:VEVENT
DTSTART;TZID=UTC:20180510T090000
DTEND;TZID=UTC:20180512T160000
DTSTAMP:20260419T233418
CREATED:20180411T164527Z
LAST-MODIFIED:20181015T190055Z
UID:2201-1525942800-1526140800@www.sfodf.org
SUMMARY:90e réunion scientifique de la SFODF
DESCRIPTION:Chers amis\, chers confrères\, \nNous vous accueillerons avec un immense plaisir à Montpellier pour la 90e réunion scientifique de la SFODF du 10 au 12 mai 2018 sur le thème Objectif : Sourire. \nNous aurons le privilège d’assister à un pré-congrès d’exception animé par Dirk WIECHMANN qui nous présentera plusieurs aspects du sourire en orthodontie linguale. Cet éminent conférencier partagera son expérience au travers de cas d’une rare qualité clinique. \nLa séance inaugurale donnera la parole à un duo de renommée internationale : Olivier REVOL et Michel CYMÈS échangeront sur le thème du « Bien-être et son rapport avec le sourire ». \nPlusieurs thématiques seront abordées ensuite telles que : \n\nle sourire de toutes les générations\,\nl’apport de la pluridisciplinarité dans le sourire ainsi que le sourire demain.\n\nDeux nouveautés verront le jour lors de cette 90e rencontre : \n\nun concours d’éloquence scientifique animé par Christine MULLER permettra à plusieurs candidats de s’affronter pendant 180 secondes sur le thème de l’harmonie ;\nun programme scientifique dédié aux assistantes dentaires sur le thème : « Venir au cabinet avec le sourire ».\n\nBien évidemment\, de remarquables activités festives\, culturelles\, ainsi que sportives vous attendent. \nNous vous espérons nombreux avec le sourire ! \nMonique CHOUVIN \nPrésidente de la 90e réunion scientifique
URL:https://www.sfodf.org/evenement-sfodf/90e-reunion-scientifique-de-la-sfodf/
LOCATION:Corum\, Montpellier\, 34000\, France
CATEGORIES:Réunions scientifiques
ATTACH;FMTTYPE=image/jpeg:https://www.sfodf.org/wp-content/uploads/2018/04/montpellier2018.jpg
ORGANIZER;CN="SFODF":MAILTO:sfodf@sfodf.org
END:VEVENT
END:VCALENDAR