BEGIN:VCALENDAR
VERSION:2.0
PRODID:-//SFODF - ECPv5.2.1//NONSGML v1.0//EN
CALSCALE:GREGORIAN
METHOD:PUBLISH
X-WR-CALNAME:SFODF
X-ORIGINAL-URL:https://www.sfodf.org
X-WR-CALDESC:évènements pour SFODF
BEGIN:VTIMEZONE
TZID:UTC
BEGIN:STANDARD
TZOFFSETFROM:+0000
TZOFFSETTO:+0000
TZNAME:UTC
DTSTART:20190101T000000
END:STANDARD
END:VTIMEZONE
BEGIN:VEVENT
DTSTART;VALUE=DATE:20190311
DTEND;VALUE=DATE:20190313
DTSTAMP:20260419T215228
CREATED:20190104T093559Z
LAST-MODIFIED:20190104T093734Z
UID:3335-1552262400-1552435199@www.sfodf.org
SUMMARY:Intelligence artificielle et sens clinique
DESCRIPTION:Les progrès effectués dans les domaines de l’intelligence artificielle et des sciences informatiques auront un impact majeur sur notre pratique au cours des décennies à venir. \nDans cette optique\, une coordination transdisciplinaire est nécessaire\, mais également les futurs orthodontistes et chirurgiens maxillo faciaux devront recevoir une initiation aux problématiques attenantes à l’IA. \nL’objectif de ce séminaire est d’apporter la matrice de réflexion aux futurs praticiens en créant une alchimie entre des cours fondamentaux dispensés par des experts en IA\, des exposés cliniques par des praticiens sur l’apport du numérique dans la pratique actuelle et future. Enfin des présentations effectuées par les développeurs issus des laboratoires de recherche de l’industrie de la santé permetront de se projeter sur les outils de thérapeutique de demain. \nProgramme\nLundi 11 mars : 09h00 – 12h30  \n\nDr M. Makaremi : Présentation du séminaire \nPr O. Sorel : Transition numérique en ODF\, Opportunités et risques pour les futurs praticiens \nPr P. Bouletreau : Indication chirurgicale. Enjeux décisifs\, rôle fondamental du sens clinique et de la prise de déceision du praticien \nDr T. Borraud : Prise de décision\, les mécanismes du cerveau \n\nLundi 11 mars : 14h00 – 18h00  \n\nPr V. Lepetit : Introduction à l’intelligence artificielle \nDr A. Garenne : Présentation des réseaux de neurones artificiels \nT. Firmo Drumond : Illustration par le réseau de neurones Tensorflow \nDr P. Soendergaard : Application de l’IA en imagerie maxillo-faciale\, les nouvelles perspectives \nDr L. Petipas : Décryptage de l’utilisation de l’IA en ODF en 2019 \n\nMardi 12 mars : 09h00 – 13h00  \n\nDr P.A. Dubreuil : Apport du numérique en chirurgie maxillo-faciale \nDr M. El Okeily : Importance de l’analyse du praticien dans la réalisation du setup chirurgical \nDr C. Bazert : Implémentation de la biomécanique dans le setup virtuel dynamique \nDr F. Darqué : Importance du contrôle du setup virtuel dynamique \nPr P. Guitton : Modélisation 3D et la perte du sens haptique \nDr A. Cavare : Application du workflow numérique au collage indirect : perspectives \nDr A. Daouri : Protocole chirurgico-orthodontique et thérapeutique par aligneurs : intérêt du setup virtuel dynamique \nDr F. de Bondeau et Pr C. Majoufre : Synthèse du séminaire / Table ronde
URL:https://www.sfodf.org/evenement-sfodf/91eme-reunion-scientifique-de-la-sfodf-2/
LOCATION:Campus Carreire – Université de Bordeaux\, UFR des Sciences Odontologiques rue du Docteur Hofmann Martinot\, Bordeaux\, 33000\, France
CATEGORIES:Sociétés scientifiques partenaires
ATTACH;FMTTYPE=image/png:https://www.sfodf.org/wp-content/uploads/2019/01/Capture-d’écran-2019-01-04-à-10.36.46.png
END:VEVENT
END:VCALENDAR