BEGIN:VCALENDAR
VERSION:2.0
PRODID:-//SFODF - ECPv5.2.1//NONSGML v1.0//EN
CALSCALE:GREGORIAN
METHOD:PUBLISH
X-WR-CALNAME:SFODF
X-ORIGINAL-URL:https://www.sfodf.org
X-WR-CALDESC:évènements pour SFODF
BEGIN:VTIMEZONE
TZID:UTC
BEGIN:STANDARD
TZOFFSETFROM:+0000
TZOFFSETTO:+0000
TZNAME:UTC
DTSTART:20220101T000000
END:STANDARD
END:VTIMEZONE
BEGIN:VEVENT
DTSTART;TZID=UTC:20220324T190000
DTEND;TZID=UTC:20220326T200000
DTSTAMP:20260419T214902
CREATED:20211029T120002Z
LAST-MODIFIED:20211029T120002Z
UID:4390-1648148400-1648324800@www.sfodf.org
SUMMARY:Congrès AIOF 2022 - Orthodontie et sciences médicales
DESCRIPTION:Orthodontie et sciences médicales
URL:https://www.sfodf.org/evenement-sfodf/aiof2022/
LOCATION:Deauville\, Deauville\, France
CATEGORIES:Sociétés scientifiques partenaires
ATTACH;FMTTYPE=image/jpeg:https://www.sfodf.org/wp-content/uploads/2021/10/20211029_110240.jpg
END:VEVENT
END:VCALENDAR