BEGIN:VCALENDAR
VERSION:2.0
PRODID:-//SFODF - ECPv5.2.1//NONSGML v1.0//EN
CALSCALE:GREGORIAN
METHOD:PUBLISH
X-WR-CALNAME:SFODF
X-ORIGINAL-URL:https://www.sfodf.org
X-WR-CALDESC:évènements pour SFODF
BEGIN:VTIMEZONE
TZID:UTC
BEGIN:STANDARD
TZOFFSETFROM:+0000
TZOFFSETTO:+0000
TZNAME:UTC
DTSTART:20180101T000000
END:STANDARD
END:VTIMEZONE
BEGIN:VEVENT
DTSTART;TZID=UTC:20180114T080000
DTEND;TZID=UTC:20180114T173000
DTSTAMP:20260421T172613
CREATED:20160316T115245Z
LAST-MODIFIED:20181015T190202Z
UID:618-1515916800-1515951000@www.sfodf.org
SUMMARY:Introduction à l’hypnose médicale en orthodontie
DESCRIPTION:Conférencières :\n\n\n					\n				\n					\n						Karina Authe-Chamagne\nDocteur en Chirurgie Dentaire\, Paris V \nDU Orthopédie Dento-Cranio-Maxillo-Faciale\, Paris VI Pitié-Salpêtrière / DU Hypnose Médicale\, Paris VI Pitié- Salpêtrière / Diplômée de l’AFEHM (Association Française pour l’Etude de l’Hypnose Médicale) \n\n\n					\n				\n					\n						Evane Pailler\nDocteur en Chirurgie Dentaire \nDU d’Hypnose Médicale Paris VI / Diplômée de l’AFEHM / École centrale de hypnose de Paris et Lausanne \n\n\n					\n				\n					\n						Objectifs\nCette présentation introduira les grands axes de ce merveilleux et nouvel outil en orthodontie.\nLa journée conduira les orthodontistes vers un nouveau chemin : celui des neurosciences. \nRésumé\nOublions les pendules et les salles de spectacle ! \nCes derniers temps\, le mot hypnose est sur toutes les lèvres\, mélangeant idées mystérieuses souvent déformées\, voire erronées\, et projets infinis visant la guérison de bon nombre de pathologies ou anomalies. \nHeureusement\, la médecine ouvre les rideaux obscurs de cet état naturel qui promet bien des découvertes : sur la gestion de parafonctions\, du stress\, de la douleur\, comme sur le traitement des addictions et\, plus généralement\, sur tout ce qui semble dépasser les limites du cerveau\, dit conscient ou analytique. \nQuels sont les problèmes fréquents rencontrés par les orthodontistes qui sont un frein à leur exercice ou aux résultats thérapeutiques ? Quels sont ceux qui pourraient être gérés par l’hypnose médicale ? \nIl ne s’agira pas d’un cours magistral\, mais d’une participation active et d’une vraie interactivité établie entre les participants.
URL:https://www.sfodf.org/evenement-sfodf/introduction-hypnose-medicale-en-orthodontie/
LOCATION:SFODF\, 15 rue du Louvre\, Bât. 2\, RdC\, Paris\, 75001\, France
CATEGORIES:Formations continues
ATTACH;FMTTYPE=image/jpeg:https://www.sfodf.org/wp-content/uploads/2018/07/formations2018janvier-1.jpg
ORGANIZER;CN="SFODF":MAILTO:sfodf@sfodf.org
END:VEVENT
END:VCALENDAR