BEGIN:VCALENDAR
VERSION:2.0
PRODID:-//SFODF - ECPv5.2.1//NONSGML v1.0//EN
CALSCALE:GREGORIAN
METHOD:PUBLISH
X-WR-CALNAME:SFODF
X-ORIGINAL-URL:https://www.sfodf.org
X-WR-CALDESC:évènements pour SFODF
BEGIN:VTIMEZONE
TZID:UTC
BEGIN:STANDARD
TZOFFSETFROM:+0000
TZOFFSETTO:+0000
TZNAME:UTC
DTSTART:20240101T000000
END:STANDARD
END:VTIMEZONE
BEGIN:VEVENT
DTSTART;VALUE=DATE:20240627
DTEND;VALUE=DATE:20240628
DTSTAMP:20260419T232928
CREATED:20231013T083912Z
LAST-MODIFIED:20250328T025624Z
UID:4879-1719446400-1719532799@www.sfodf.org
SUMMARY:La contention dans les 4 dimensions
DESCRIPTION:Conférencier :\n\n\n					\n				\n					\n						Michel LE GALL\n \n\n\n\n\n\n\n\nSpécialiste qualifié en ODF\, PU-PH\n\n\n\n\n\n\nDoctorat en Mécaniques Energétiques\n\n\n\n\n\n\nCoordonnateur interrégion Sud du DES d’ODF\n\n\n\n\n\n\nChef de service hospitalo-universitaire d’orthopédie dento-faciale – Hôpital de la Timone\, Marseille\n\n\n\n\n\n\nPrésident de la SFODF\n\n\n\n\n\n\n\n  \n\n\n					\n				\n					\n						Objectifs\n\nAborder et développer les différents concepts de la contention (statique et dynamique). \n\nDévelopper sous forme théorique les outils de la contention (amovibles et fixes). \nRésumé\n\n\n\n\nPour télécharger la fiche complète Cliquez ici \n\nIndicateurs clés  : En 2022\, avec 44 participants\, le taux global de satisfaction des participants est de 4\,9/5 \nPrérequis  \nDestinée aux professionnels de santé en exercice\, pratiquant des soins d’orthopédie dento-faciale .  Pas d’autre prérequis. \nPublic visé \n\nSpécialistes qualifiés en ODF libéraux et/ou salariés\nInternes en DES d’ODF ou OMDF\nChirurgiens-dentistes libéraux et/ou salariés\n\nRésumé \n\n\n\n\n\n\n\n\n\n\n\n\nCours théorique\, pas de pratique \n\nÉvolution de la contention sur les 40 dernières années. Critères de finition au travers de trois périodes d’âges.\nLa gestion des fameuses 3es molaires.\nProtocole pratique de mise en place de contentions collées.\n\n\nPour tout complément d’informations\, merci de consulter le site des formations https://www.sfodf-formationcontinue.com/
URL:https://www.sfodf.org/evenement-sfodf/la-contention-2/
LOCATION:COMET Victoire\, 12 rue du Mail\, Paris\, 75002
CATEGORIES:Formations continues
ATTACH;FMTTYPE=image/jpeg:https://www.sfodf.org/wp-content/uploads/2018/07/formations2018octobre2.jpg
ORGANIZER;CN="AFC%20ODF":MAILTO:a.schaller@afc-odf.fr
END:VEVENT
END:VCALENDAR