BEGIN:VCALENDAR
VERSION:2.0
PRODID:-//SFODF - ECPv5.2.1//NONSGML v1.0//EN
CALSCALE:GREGORIAN
METHOD:PUBLISH
X-WR-CALNAME:SFODF
X-ORIGINAL-URL:https://www.sfodf.org
X-WR-CALDESC:évènements pour SFODF
BEGIN:VTIMEZONE
TZID:UTC
BEGIN:STANDARD
TZOFFSETFROM:+0000
TZOFFSETTO:+0000
TZNAME:UTC
DTSTART:20220101T000000
END:STANDARD
END:VTIMEZONE
BEGIN:VEVENT
DTSTART;VALUE=DATE:20220922
DTEND;VALUE=DATE:20220923
DTSTAMP:20260419T215033
CREATED:20211014T152139Z
LAST-MODIFIED:20211103T094125Z
UID:4360-1663804800-1663891199@www.sfodf.org
SUMMARY:La gestion des molaires condamnées.  Fermeture ou maintien des espaces ? Comment les gérer dans notre pratique quotidienne.
DESCRIPTION:Conférencier :\n\n\n					\n				\n					\n						Michel LE GALL\n \n\nSpécialiste qualifiée en ODF\nPU-PH\, HdR\nDocteur en mécaniques énergétiques\nChef de service hospitalo-universitaire d’orthopédie dento-faciale – Hôpital de la Timone Marseille\nPrésident de l’UFSBD 13\n\n  \n\n\n					\n				\n					\n						\n\n					\n				\n					\n						Objectifs\n\nAborder le problème de la molaire condamnée de la façon la plus rationnelle \n\nMettre en œuvre des thérapeutiques les plus en adéquation avec la problématique en tenant compte des données acquises de la science. \n\n\n\n\n\nPouvoir choisir la mécanique la plus efficace pour atteindre les objectifs définis \n\n\n\n\nRésumé\n\n\n\n\nPour télécharger la fiche complète Cliquez ici \n\nIndicateurs clés  : Le taux global de satisfaction des participants est de 4\,9/5 \nLa 1ère molaire reste la dent la plus fréquemment atteinte\, de par son éruption précoce ainsi que de sa situation au niveau de l’arcade. \n\nLe pédodontiste rencontre parfois certaines difficultés à sa conservation.\nL’orthodontie devient alors une alternative au rétablissement de la continuité de l’arcade. \nL’extraction précoce permet un mésialage spontané des 2èmes et 3èmes molaires avec nécessité d’un redressement et d’un aménagement occlusale. \nL’extraction tardive offre deux alternatives : \n\nSoit elle s’insère dans une thérapeutique orthodontique globale et le gain de place permet la résolution de l’encombrement antérieur voir moyen ;\nSoit le maintien de l’espace d’extraction est nécessaire et l’orthodontie devient le moyen d’aménager cette arcade pour une solution implantaire\, prothétique classique voir une autotransplantation.\n\nAu travers de cet exposé\, nous envisagerons les différentes situations cliniques répondant au thème proposé.
URL:https://www.sfodf.org/evenement-sfodf/molaire-condamnee/
LOCATION:SFODF\, 15 rue du Louvre\, Bât. 2\, RdC\, Paris\, 75001\, France
CATEGORIES:Formations continues
ATTACH;FMTTYPE=image/jpeg:https://www.sfodf.org/wp-content/uploads/2018/07/formations2018octobre2.jpg
ORGANIZER;CN="SFODF":MAILTO:sfodf@sfodf.org
END:VEVENT
END:VCALENDAR