BEGIN:VCALENDAR
VERSION:2.0
PRODID:-//SFODF - ECPv5.2.1//NONSGML v1.0//EN
CALSCALE:GREGORIAN
METHOD:PUBLISH
X-WR-CALNAME:SFODF
X-ORIGINAL-URL:https://www.sfodf.org
X-WR-CALDESC:évènements pour SFODF
BEGIN:VTIMEZONE
TZID:UTC
BEGIN:STANDARD
TZOFFSETFROM:+0000
TZOFFSETTO:+0000
TZNAME:UTC
DTSTART:20220101T000000
END:STANDARD
END:VTIMEZONE
BEGIN:VEVENT
DTSTART;VALUE=DATE:20221210
DTEND;VALUE=DATE:20230116
DTSTAMP:20260420T121702
CREATED:20220421T095600Z
LAST-MODIFIED:20230331T114133Z
UID:4508-1670630400-1673827199@www.sfodf.org
SUMMARY:Journée Multidisciplinaire - La dent compromise ou condamnée
DESCRIPTION:Le taux global de satisfaction des participants est de 4\,9/5\n\nRetrouvez le programme complet sur le site de la journée journee-sfodf-sfop.com\n\n \n\n\n\n« Rappelons-nous que seul nous ne sommes rien »\n\n\n\n\n\n\n\nPrincipe du « Droit au but » : mise en avant des points clés et des assistances conduisant au diagnostic et définition claire des objectifs de traitements et des moyens thérapeutiques. Des conférences de 20 minutes\, suivies de questions. \n\n\n\n\n\nMATIN \n\nComment reconnaître et distinguer les anomalies de structure dentaire ?\nQuels éléments identifier pour déterminer une anomalie de structure dentaire ? Certains protocoles thérapeutiques\, comme l’infiltration résineuse\, vont découler de ce diagnostic.\nQue faut-il savoir aujourd’hui sur les hypominéralisations molaires incisives ?\nPoint actualisé sur les connaissances générales essentielles permettant d’informer nos patients.\nQuels conseils préventifs pour nos patients en odontologie pédiatrique et en orthodontie ? Point sur le matériel et les conseils destinés aux patients en matière de prévention.\nThérapeutiques préventives professionnelles : où\, quand\, comment ?\nPoint sur les thérapeutiques de reminéralisation et de prophylaxie de la maladie carieuse.\nFaut-il traiter les taches sur les incisives permanentes avant ou après la thérapeutique orthodontique ? De quelles manières ?\nPoint sur la conduite à tenir face à des problématiques d’anomalies de structure sur les incisives permanente (collage\, timing à adopter\, etc.).\nComment optimiser vos procédures de collage sur l’émail\, sur la dentine et sur les tissus hypominéralisés en odontologie pédiatrique et en orthodontie ?\nL’objectif est de faire le point sur les systèmes adhésifs et les procédures de collage aussi bien en Orthodontie qu’en Odontologie pédiatrique.\n\nAPRES-MIDI \n\nPremière molaire permanente délabrée : jusqu’où peut-on être conservateur ?\nRéflexion à envisager face à une première molaire permanente présentant un délabrement problématique\, avec ou sans implication pulpaire.\nLa première molaire permanente condamnée : quand et quelles dents extraire ?\nSur quels critères doit-on se baser pour décider du nombre et du choix des dents à extraire ?\nComment reconnaître une ankylose d’un défaut primaire d’éruption et quelles stratégies thérapeutiques orthodontico-chirurgicales mettre en œuvre ?\nRéflexion à envisager face à une première molaire permanente présentant un défaut d’évolution d’origine variée (défauts primaires d’éruption\, absences d’évolution des deuxièmes molaires\, ankyloses non traumatiques).
URL:https://www.sfodf.org/evenement-sfodf/multi-sfop-dent-compromise-ou-condamnee/
LOCATION:Replay
CATEGORIES:Journées Multidisciplinaires
ATTACH;FMTTYPE=image/jpeg:https://www.sfodf.org/wp-content/uploads/2022/04/22MULTIDIS_banner210x250.jpg
ORGANIZER;CN="SFODF":MAILTO:sfodf@sfodf.org
END:VEVENT
END:VCALENDAR