BEGIN:VCALENDAR
VERSION:2.0
PRODID:-//SFODF - ECPv5.2.1//NONSGML v1.0//EN
CALSCALE:GREGORIAN
METHOD:PUBLISH
X-WR-CALNAME:SFODF
X-ORIGINAL-URL:https://www.sfodf.org
X-WR-CALDESC:évènements pour SFODF
BEGIN:VTIMEZONE
TZID:UTC
BEGIN:STANDARD
TZOFFSETFROM:+0000
TZOFFSETTO:+0000
TZNAME:UTC
DTSTART:20230101T000000
END:STANDARD
END:VTIMEZONE
BEGIN:VEVENT
DTSTART;VALUE=DATE:20230921
DTEND;VALUE=DATE:20230922
DTSTAMP:20260419T214900
CREATED:20221113T142055Z
LAST-MODIFIED:20230831T075912Z
UID:4662-1695254400-1695340799@www.sfodf.org
SUMMARY:NUMERIQUE et ALIGNEURS  Du set-up à la clinique :  ce que doit savoir un orthodontiste
DESCRIPTION:Conférencier :\n\n\n					\n				\n					\n						Guillaume LECOCQ \n\nSpécialiste qualifiée en ODF\nExercice libéral à Valenciennes\nTitulaire du Board Français\, certificat d’excellence en orthodontie\nResponsable scientifique du DU d’Orthodontie linguale et éthétique – Paris\nDiplômé dee l’EMBA de l’EDHEC Business School \n\n\n\n					\n				\n					\n						Objectifs\n\nDifférencier les set-ups selon la thérapeutique \n\nDéterminer les mouvements à réaliser pour faire un set-up pour aligneurs \n\nÉvaluer la faisabilité des mouvements et la biomécanique associée \n\nPlanifier un travail en CFAO collaborative \nRésumé\n\n\n\n\nPour télécharger la fiche complète Cliquez ici \n\nIndicateurs clés  : Pas d’historique pour cette formation mais\, le taux global de satisfaction des participants est de 4\,9/5 \nPrérequis  \nDestinée aux professionnels de santé en exercice\, pratiquant des soins d’orthopédie dento-faciale .  Pas d’autre prérequis. \nPublic visé \n\nSpécialistes qualifiés en ODF libéraux et/ou salariés\nInternes en DES d’ODF ou OMDF\nChirurgiens-dentistes libéraux et/ou salariés\n\nRésumé \n\n\n\n\n\n\n\n\n\n\n\n\nLe flux numérique a été une révolution pour notre pratique orthodontique. Actuellement\, il connaît lui-même une révolution puisqu’il peut être intégré dans les cabinets : les logiciels de conception sont devenus abordables\, conviviaux et faciles d’utilisation\, et les systèmes de production sont également devenus accessibles grâce à une simplification des imprimantes 3D. Mais posséder la technologie n’en donne pas la maîtrise. \nDurant la formation\, vous apprendrez à retranscrire votre réflexion (plan de traitement et conception des mouve- ments) pour les outils numériques. En effet\, c’est bien l’orthodontiste qui doit exprimer son savoir et son expertise lors de l’utilisation de ces outils et non les « systèmes numériques » qui doivent proposer le plan de traitement et les mouvements dentaires. \nEn littérature\, c’est bien l’auteur qui écrit l’histoire et non un logiciel de traitement de texte. Alors\, en orthodontie\, restons auteurs de nos traitements en maîtrisant la CFAO. \nPour tout complément d’information merci de consulter le site des formations de la SFODF : https://www.sfodf-formationcontinue.com/
URL:https://www.sfodf.org/evenement-sfodf/numerique-et-aligneur/
LOCATION:SFODF\, 15 rue du Louvre\, Bât. 2\, RdC\, Paris\, 75001\, France
CATEGORIES:Formations continues
ATTACH;FMTTYPE=image/jpeg:https://www.sfodf.org/wp-content/uploads/2018/07/formations2018octobre2.jpg
ORGANIZER;CN="SFODF":MAILTO:sfodf@sfodf.org
END:VEVENT
END:VCALENDAR