BEGIN:VCALENDAR
VERSION:2.0
PRODID:-//SFODF - ECPv5.2.1//NONSGML v1.0//EN
CALSCALE:GREGORIAN
METHOD:PUBLISH
X-WR-CALNAME:SFODF
X-ORIGINAL-URL:https://www.sfodf.org
X-WR-CALDESC:évènements pour SFODF
BEGIN:VTIMEZONE
TZID:UTC
BEGIN:STANDARD
TZOFFSETFROM:+0000
TZOFFSETTO:+0000
TZNAME:UTC
DTSTART:20240101T000000
END:STANDARD
END:VTIMEZONE
BEGIN:VEVENT
DTSTART;VALUE=DATE:20240328
DTEND;VALUE=DATE:20240501
DTSTAMP:20260419T233248
CREATED:20231013T084607Z
LAST-MODIFIED:20250328T030324Z
UID:4882-1711584000-1714521599@www.sfodf.org
SUMMARY:Traitement orthodontique des classes II et classe III par ancrage squelettique : comment optimiser la croissance
DESCRIPTION:La journée des conférences de Prestige est organisée en distantiel puis en replay. Vous aurez la possibilité de poser des questions au conférencier en direct. \nVous pourrez vous connecter de chez vous\, avec votre ordinateur\, tablette ou smartphone\, et assister ou revoir les conférences comme si vous y étiez en bénéficiant d’un rapport temps/ efficacité inégalé jusqu’au mardi 30 avril 2024 minuit ! \nCe que nous apportera la Journée de Prestige 2024 :\n\nUn éclairage clinique sur le potentiel et les limites d’un traitement orthopédique pour corriger une croissance de classe II ou de classe III afin de réduire le nombre d’ostéotomies à l’âge adulte.\nComment utiliser l’ancrage squelettique afin de limiter les compensations dento-alvéolaires et d’optimiser la croissance faciale.\n\nCe qui nous fera progresser :\n\nUn abord clinique et fonctionnel de la croissance faciale pour optimiser le diagnostic et définir les indications d’un traitement orthopédique.\nComprendre pourquoi une approche avec ancrage osseux augmente l’effet orthopédique.\nUne vision claire des effets dento-alvéolaires et squelettiques des tractions de classe III sur miniplaques et le traitement par dispositif de Herbst combiné avec l’ancrage squelettique.\nLes connaissances du protocole chirurgical et orthodontique nécessaires pour augmenter le taux de réussites des traitements orthopédiques par ancrage sur miniplaques.\nUne ouverture vers l’utilisation de l’imagerie 3D pour le diagnostic\, la création de miniplaques et de guides chirurgicaux faits sur mesure ainsi que l’évaluation des effets cliniques du traitement orthopédique.\n\n\n\n\n\n\n\n\n\n\n\n\nEt\nConférencier :\n\n\n					\n				\n					\n						\n\n					\n				\n					\n						Hugo DE CLERCK (Belgique) \n\n\n\n\n\n\nSpécialiste en orthodontie\,\n\n\nPratique privée à Bruxelles\,\n\n\nPhD\, Université de Gand\,\n\n\nProfesseur et chef de service d’orthodontie à l’Université Catholique de Louvain de 1989 à 2006. \n\n\nAdjunct Professor à l’Université de Caroline du Nord\, Chapel Hill\, Etats-Unis. \n\n\n‘Dewel Award’ en 2012\,\n\n\n‘Jacob A. Salzmann Award’ en 2019\n\n\n‘John Valentine Mershon Memorial Award’ de l’AAO en 2022. \n\n\nFellow of the Royal College of Surgeons of England.  \n\n\n\n\n\n\n\n\n					\n				\n					\n						\n\n					\n				\n					\n						Thèmes\n\n\nUn éclairage clinique sur le potentiel et les limites d’un traitement orthopédique pour corriger une croissance de classe II ou de classe III afin de réduire le nombre d’ostéotomies à l’âge adulte.\n\n\nComment utiliser l’ancrage squelettique afin de limiter les compensations dento-alvéolaires et d’optimiser la croissance faciale. \nIndicateurs clés formation  : Le taux global de satisfaction des participants aux formations de la SFODF est de 4\,9/5 \nCette journée de cours est offerte à l’ensemble des étudiants de notre spécialité ainsi qu’aux enseignants P.U.\, M.C.U. et A.H.U. des départements d’O.D.F. des universités françaises\, pour que tous tirent profit de son enseignement magistral.
URL:https://www.sfodf.org/evenement-sfodf/prestige-hugo-de-clerck/
LOCATION:Replay
CATEGORIES:Conférences de Prestige
ATTACH;FMTTYPE=image/jpeg:https://www.sfodf.org/wp-content/uploads/2023/10/24PRESTIGE_banner120x120-replay.jpg
ORGANIZER;CN="SFODF":MAILTO:sfodf@sfodf.org
END:VEVENT
END:VCALENDAR