BEGIN:VCALENDAR
VERSION:2.0
PRODID:-//SFODF - ECPv5.2.1//NONSGML v1.0//EN
CALSCALE:GREGORIAN
METHOD:PUBLISH
X-WR-CALNAME:SFODF
X-ORIGINAL-URL:https://www.sfodf.org
X-WR-CALDESC:évènements pour SFODF
BEGIN:VTIMEZONE
TZID:UTC
BEGIN:STANDARD
TZOFFSETFROM:+0000
TZOFFSETTO:+0000
TZNAME:UTC
DTSTART:20220101T000000
END:STANDARD
END:VTIMEZONE
BEGIN:VEVENT
DTSTART;VALUE=DATE:20221013
DTEND;VALUE=DATE:20221017
DTSTAMP:20260419T215011
CREATED:20220914T090737Z
LAST-MODIFIED:20220914T090907Z
UID:4588-1665619200-1665964799@www.sfodf.org
SUMMARY:Congrès SIDO et MOIP 2022
DESCRIPTION:
URL:https://www.sfodf.org/evenement-sfodf/sido-2022/
LOCATION:Florence\, Italie\, Forence\, Italie
CATEGORIES:Sociétés scientifiques partenaires
ORGANIZER;CN="SIDO":MAILTO:segreteriasido@sido.it
END:VEVENT
END:VCALENDAR