BEGIN:VCALENDAR
VERSION:2.0
PRODID:-//SFODF - ECPv5.2.1//NONSGML v1.0//EN
CALSCALE:GREGORIAN
METHOD:PUBLISH
X-WR-CALNAME:SFODF
X-ORIGINAL-URL:https://www.sfodf.org
X-WR-CALDESC:évènements pour SFODF
BEGIN:VTIMEZONE
TZID:UTC
BEGIN:STANDARD
TZOFFSETFROM:+0000
TZOFFSETTO:+0000
TZNAME:UTC
DTSTART:20230101T000000
END:STANDARD
END:VTIMEZONE
BEGIN:VEVENT
DTSTART;TZID=UTC:20231114T130000
DTEND;TZID=UTC:20231114T140000
DTSTAMP:20260419T233551
CREATED:20231023T142658Z
LAST-MODIFIED:20231023T142658Z
UID:4896-1699966800-1699970400@www.sfodf.org
SUMMARY:WEBINAIRE : Soins bucco-dentaires : comment accueillir un patient en situation de handicap ?
DESCRIPTION:Résumé\n\n\n\n“Soins bucco-dentaires : comment accueillir un patient en situation de handicap ?”\nMardi 14 novembre 2023 de 13h à 14h\navec\nDr Charlotte Gallazzini \n\n\n\nCoactis Santé présentera ses différents outils dont les BD sur l’orthodontie réalisés UFSBD Union Française pour la Santé Bucco-Dentaire\net la Sfodf Sfodf ainsi que les fiches conseils Handiconnect sur le sujet.\n\n\n\n\nPour vous inscrire : cliquez ici
URL:https://www.sfodf.org/evenement-sfodf/webinaire-soins-bucco-dentaires-comment-accueillir-un-patient-en-situation-de-handicap/
LOCATION:Nowhere & Everywhere\,\, Virtual Conference\,\, France
CATEGORIES:Sociétés scientifiques partenaires
ATTACH;FMTTYPE=image/png:https://www.sfodf.org/wp-content/uploads/2023/10/Capture-d’écran-2023-10-23-à-16.24.27.png
ORGANIZER;CN="COACTIS%20Sant%C3%A9%20%20%2F%20Handi%20connect":MAILTO:stephanie.baz@coactis-sante.fr
END:VEVENT
END:VCALENDAR